Package: flowStats Version: 4.22.0 Command: /home/biocbuild/bbs-3.22-bioc/R/bin/R CMD check --install=check:flowStats.install-out.txt --library=/home/biocbuild/bbs-3.22-bioc/R/site-library --timings flowStats_4.22.0.tar.gz StartedAt: 2025-11-11 23:47:58 -0500 (Tue, 11 Nov 2025) EndedAt: 2025-11-11 23:51:59 -0500 (Tue, 11 Nov 2025) EllapsedTime: 241.3 seconds RetCode: 0 Status: WARNINGS CheckDir: flowStats.Rcheck Warnings: 4