Package: flowStats Version: 4.20.0 Command: /home/biocbuild/bbs-3.21-bioc/R/bin/R CMD build --keep-empty-dirs --no-resave-data flowStats StartedAt: 2025-10-15 17:33:17 -0400 (Wed, 15 Oct 2025) EndedAt: 2025-10-15 17:34:57 -0400 (Wed, 15 Oct 2025) EllapsedTime: 100.1 seconds RetCode: 0 Status: OK PackageFile: flowStats_4.20.0.tar.gz PackageFileSize: 10.97 MiB