Package: flowStats Version: 4.20.0 Command: /home/biocbuild/R/R/bin/R CMD INSTALL flowStats StartedAt: 2025-09-29 20:50:27 -0000 (Mon, 29 Sep 2025) EndedAt: 2025-09-29 20:51:03 -0000 (Mon, 29 Sep 2025) EllapsedTime: 35.3 seconds RetCode: 0 Status: OK