Package: flowStats Version: 4.20.0 Command: /home/biocbuild/R/R/bin/R CMD build --keep-empty-dirs --no-resave-data flowStats StartedAt: 2025-09-26 01:40:30 -0000 (Fri, 26 Sep 2025) EndedAt: 2025-09-26 01:41:19 -0000 (Fri, 26 Sep 2025) EllapsedTime: 49.0 seconds RetCode: 1 Status: ERROR PackageFile: None PackageFileSize: NA