Package: flowStats Version: 4.20.0 Command: /Library/Frameworks/R.framework/Resources/bin/R CMD INSTALL flowStats StartedAt: 2025-10-13 15:57:56 -0400 (Mon, 13 Oct 2025) EndedAt: 2025-10-13 15:58:23 -0400 (Mon, 13 Oct 2025) EllapsedTime: 27.7 seconds RetCode: 0 Status: OK