Package: flowStats Version: 4.20.0 Command: /Library/Frameworks/R.framework/Resources/bin/R CMD build --keep-empty-dirs --no-resave-data flowStats StartedAt: 2025-10-14 00:32:45 -0400 (Tue, 14 Oct 2025) EndedAt: 2025-10-14 00:34:55 -0400 (Tue, 14 Oct 2025) EllapsedTime: 130.4 seconds RetCode: 0 Status: OK PackageFile: flowStats_4.20.0.tar.gz PackageFileSize: 10.97 MiB