Package: flowStats Version: 4.20.0 Command: rm -rf flowStats.buildbin-libdir && mkdir flowStats.buildbin-libdir && /Users/biocbuild/BBS/utils/build-universal.sh flowStats_4.20.0.tar.gz /Library/Frameworks/R.framework/Resources/bin/R flowStats.buildbin-libdir StartedAt: 2025-10-15 18:32:20 -0400 (Wed, 15 Oct 2025) EndedAt: 2025-10-15 18:32:51 -0400 (Wed, 15 Oct 2025) EllapsedTime: 31.6 seconds RetCode: 0 Status: OK PackageFile: flowStats_4.20.0.tgz PackageFileSize: 11.71 MiB