Package: flowPlots Version: 1.58.0 Command: /home/biocbuild/bbs-3.22-bioc/R/bin/R CMD INSTALL flowPlots StartedAt: 2025-11-11 15:06:50 -0500 (Tue, 11 Nov 2025) EndedAt: 2025-11-11 15:07:01 -0500 (Tue, 11 Nov 2025) EllapsedTime: 11.1 seconds RetCode: 0 Status: OK