Package: flowPlots Version: 1.58.0 Command: /home/biocbuild/bbs-3.22-bioc/R/bin/R CMD check --install=check:flowPlots.install-out.txt --library=/home/biocbuild/bbs-3.22-bioc/R/site-library --timings flowPlots_1.58.0.tar.gz StartedAt: 2025-11-14 23:50:56 -0500 (Fri, 14 Nov 2025) EndedAt: 2025-11-14 23:51:29 -0500 (Fri, 14 Nov 2025) EllapsedTime: 32.1 seconds RetCode: 0 Status: OK CheckDir: flowPlots.Rcheck Warnings: 0