Package: flowPlots Version: 1.58.0 Command: /Library/Frameworks/R.framework/Resources/bin/R CMD INSTALL flowPlots StartedAt: 2025-11-03 15:09:37 -0500 (Mon, 03 Nov 2025) EndedAt: 2025-11-03 15:10:17 -0500 (Mon, 03 Nov 2025) EllapsedTime: 40.0 seconds RetCode: 0 Status: OK