Package: flowPlots Version: 1.56.0 Command: /Library/Frameworks/R.framework/Resources/bin/R CMD build --keep-empty-dirs --no-resave-data flowPlots StartedAt: 2025-04-21 16:22:04 -0400 (Mon, 21 Apr 2025) EndedAt: 2025-04-21 16:22:10 -0400 (Mon, 21 Apr 2025) EllapsedTime: 6.1 seconds RetCode: 0 Status: OK PackageFile: flowPlots_1.56.0.tar.gz PackageFileSize: 635.2 KiB