Package: flowPloidy Version: 1.36.0 Command: /home/biocbuild/bbs-3.22-bioc/R/bin/R CMD INSTALL flowPloidy StartedAt: 2025-11-11 15:18:22 -0500 (Tue, 11 Nov 2025) EndedAt: 2025-11-11 15:18:32 -0500 (Tue, 11 Nov 2025) EllapsedTime: 9.9 seconds RetCode: 0 Status: OK