Package: flowPloidy Version: 1.36.0 Command: /home/biocbuild/bbs-3.22-bioc/R/bin/R CMD check --install=check:flowPloidy.install-out.txt --library=/home/biocbuild/bbs-3.22-bioc/R/site-library --timings flowPloidy_1.36.0.tar.gz StartedAt: 2025-11-26 00:10:26 -0500 (Wed, 26 Nov 2025) EndedAt: 2025-11-26 00:11:48 -0500 (Wed, 26 Nov 2025) EllapsedTime: 82.1 seconds RetCode: 0 Status: OK CheckDir: flowPloidy.Rcheck Warnings: 0