Package: flowPloidy Version: 1.36.0 Command: /home/biocbuild/bbs-3.22-bioc/R/bin/R CMD build --keep-empty-dirs --no-resave-data --md5 flowPloidy StartedAt: 2025-11-11 17:45:19 -0500 (Tue, 11 Nov 2025) EndedAt: 2025-11-11 17:45:46 -0500 (Tue, 11 Nov 2025) EllapsedTime: 27.0 seconds RetCode: 0 Status: OK PackageFile: flowPloidy_1.36.0.tar.gz PackageFileSize: 2.334 MiB