Package: flowPloidy Version: 1.36.0 Command: /Library/Frameworks/R.framework/Resources/bin/R CMD INSTALL flowPloidy StartedAt: 2025-11-03 15:20:24 -0500 (Mon, 03 Nov 2025) EndedAt: 2025-11-03 15:20:44 -0500 (Mon, 03 Nov 2025) EllapsedTime: 19.9 seconds RetCode: 0 Status: OK