Package: flowPloidy Version: 1.36.0 Command: /Library/Frameworks/R.framework/Resources/bin/R CMD build --keep-empty-dirs --no-resave-data flowPloidy StartedAt: 2025-11-03 17:03:48 -0500 (Mon, 03 Nov 2025) EndedAt: 2025-11-03 17:04:29 -0500 (Mon, 03 Nov 2025) EllapsedTime: 41.0 seconds RetCode: 0 Status: OK PackageFile: flowPloidy_1.36.0.tar.gz PackageFileSize: 2.332 MiB