Package: flowPloidy Version: 1.34.0 Command: /home/biocbuild/R/R/bin/R CMD build --keep-empty-dirs --no-resave-data flowPloidy StartedAt: 2025-10-14 00:56:09 -0000 (Tue, 14 Oct 2025) EndedAt: 2025-10-14 00:56:44 -0000 (Tue, 14 Oct 2025) EllapsedTime: 35.0 seconds RetCode: 0 Status: OK PackageFile: flowPloidy_1.34.0.tar.gz PackageFileSize: 2.315 MiB