Package: flowPeaks Version: 1.56.0 Command: /home/biocbuild/bbs-3.22-bioc/R/bin/R CMD build --keep-empty-dirs --no-resave-data --md5 flowPeaks StartedAt: 2025-11-11 17:45:14 -0500 (Tue, 11 Nov 2025) EndedAt: 2025-11-11 17:45:37 -0500 (Tue, 11 Nov 2025) EllapsedTime: 23.0 seconds RetCode: 0 Status: OK PackageFile: flowPeaks_1.56.0.tar.gz PackageFileSize: 2.71 MiB