Package: flowMerge Version: 2.58.0 Command: /home/biocbuild/bbs-3.22-bioc/R/bin/R CMD check --install=check:flowMerge.install-out.txt --library=/home/biocbuild/bbs-3.22-bioc/R/site-library --timings flowMerge_2.58.0.tar.gz StartedAt: 2025-11-11 23:47:31 -0500 (Tue, 11 Nov 2025) EndedAt: 2025-11-11 23:49:18 -0500 (Tue, 11 Nov 2025) EllapsedTime: 107.2 seconds RetCode: 0 Status: WARNINGS CheckDir: flowMerge.Rcheck Warnings: 1