Package: flowMerge Version: 2.56.0 Command: /Library/Frameworks/R.framework/Resources/bin/R CMD INSTALL flowMerge StartedAt: 2025-10-02 18:24:34 -0400 (Thu, 02 Oct 2025) EndedAt: 2025-10-02 18:24:58 -0400 (Thu, 02 Oct 2025) EllapsedTime: 23.4 seconds RetCode: 0 Status: OK