Package: flowMerge Version: 2.56.0 Command: /Library/Frameworks/R.framework/Resources/bin/R CMD build --keep-empty-dirs --no-resave-data flowMerge StartedAt: 2025-10-03 00:31:21 -0400 (Fri, 03 Oct 2025) EndedAt: 2025-10-03 00:32:14 -0400 (Fri, 03 Oct 2025) EllapsedTime: 52.5 seconds RetCode: 0 Status: OK PackageFile: flowMerge_2.56.0.tar.gz PackageFileSize: 630.9 KiB