Package: flowMerge Version: 2.56.0 Command: rm -rf flowMerge.buildbin-libdir && mkdir flowMerge.buildbin-libdir && /Users/biocbuild/BBS/utils/build-universal.sh flowMerge_2.56.0.tar.gz /Library/Frameworks/R.framework/Resources/bin/R flowMerge.buildbin-libdir StartedAt: 2025-10-04 18:01:37 -0400 (Sat, 04 Oct 2025) EndedAt: 2025-10-04 18:02:07 -0400 (Sat, 04 Oct 2025) EllapsedTime: 30.8 seconds RetCode: 0 Status: OK PackageFile: flowMerge_2.56.0.tgz PackageFileSize: 1.055 MiB