Package: flowMeans Version: 1.70.0 Command: /home/biocbuild/bbs-3.22-bioc/R/bin/R CMD INSTALL flowMeans StartedAt: 2025-11-11 15:17:52 -0500 (Tue, 11 Nov 2025) EndedAt: 2025-11-11 15:18:06 -0500 (Tue, 11 Nov 2025) EllapsedTime: 14.5 seconds RetCode: 0 Status: OK