Package: flowMeans Version: 1.70.0 Command: /Library/Frameworks/R.framework/Resources/bin/R CMD INSTALL flowMeans StartedAt: 2025-10-31 15:24:44 -0400 (Fri, 31 Oct 2025) EndedAt: 2025-10-31 15:25:16 -0400 (Fri, 31 Oct 2025) EllapsedTime: 31.8 seconds RetCode: 0 Status: OK