Package: flowMeans Version: 1.70.0 Command: rm -rf flowMeans.buildbin-libdir && mkdir flowMeans.buildbin-libdir && /Users/biocbuild/BBS/utils/build-universal.sh flowMeans_1.70.0.tar.gz /Library/Frameworks/R.framework/Resources/bin/R flowMeans.buildbin-libdir StartedAt: 2025-11-03 01:41:11 -0500 (Mon, 03 Nov 2025) EndedAt: 2025-11-03 01:41:40 -0500 (Mon, 03 Nov 2025) EllapsedTime: 29.1 seconds RetCode: 0 Status: OK PackageFile: flowMeans_1.70.0.tgz PackageFileSize: 3.543 MiB