Package: flowMeans Version: 1.68.0 Command: /home/biocbuild/R/R/bin/R CMD INSTALL flowMeans StartedAt: 2025-10-13 20:25:40 -0000 (Mon, 13 Oct 2025) EndedAt: 2025-10-13 20:26:00 -0000 (Mon, 13 Oct 2025) EllapsedTime: 20.0 seconds RetCode: 0 Status: OK