Package: flowMeans Version: 1.68.0 Command: /home/biocbuild/R/R/bin/R CMD build --keep-empty-dirs --no-resave-data flowMeans StartedAt: 2025-10-14 00:55:16 -0000 (Tue, 14 Oct 2025) EndedAt: 2025-10-14 00:55:50 -0000 (Tue, 14 Oct 2025) EllapsedTime: 34.0 seconds RetCode: 0 Status: OK PackageFile: flowMeans_1.68.0.tar.gz PackageFileSize: 3.278 MiB