Package: flowMatch Version: 1.46.0 Command: /home/biocbuild/bbs-3.22-bioc/R/bin/R CMD check --install=check:flowMatch.install-out.txt --library=/home/biocbuild/bbs-3.22-bioc/R/site-library --timings flowMatch_1.46.0.tar.gz StartedAt: 2025-11-21 00:27:41 -0500 (Fri, 21 Nov 2025) EndedAt: 2025-11-21 00:29:25 -0500 (Fri, 21 Nov 2025) EllapsedTime: 104.2 seconds RetCode: 0 Status: OK CheckDir: flowMatch.Rcheck Warnings: 0