Package: flowMatch Version: 1.46.0 Command: /Library/Frameworks/R.framework/Resources/bin/R CMD INSTALL flowMatch StartedAt: 2025-11-03 15:20:23 -0500 (Mon, 03 Nov 2025) EndedAt: 2025-11-03 15:20:58 -0500 (Mon, 03 Nov 2025) EllapsedTime: 34.9 seconds RetCode: 0 Status: OK