Package: flowMatch Version: 1.46.0 Command: rm -rf flowMatch.buildbin-libdir && mkdir flowMatch.buildbin-libdir && /Users/biocbuild/BBS/utils/build-universal.sh flowMatch_1.46.0.tar.gz /Library/Frameworks/R.framework/Resources/bin/R flowMatch.buildbin-libdir StartedAt: 2025-11-04 01:40:35 -0500 (Tue, 04 Nov 2025) EndedAt: 2025-11-04 01:41:15 -0500 (Tue, 04 Nov 2025) EllapsedTime: 39.4 seconds RetCode: 0 Status: OK PackageFile: flowMatch_1.46.0.tgz PackageFileSize: 4 MiB