Package: flowMatch Version: 1.44.0 Command: /home/biocbuild/R/R/bin/R CMD INSTALL flowMatch StartedAt: 2025-10-13 20:25:58 -0000 (Mon, 13 Oct 2025) EndedAt: 2025-10-13 20:26:44 -0000 (Mon, 13 Oct 2025) EllapsedTime: 45.9 seconds RetCode: 0 Status: OK