Package: flowGraph Version: 1.18.0 Command: /home/biocbuild/R/R/bin/R CMD build --keep-empty-dirs --no-resave-data flowGraph StartedAt: 2025-11-14 01:52:41 -0000 (Fri, 14 Nov 2025) EndedAt: 2025-11-14 01:53:39 -0000 (Fri, 14 Nov 2025) EllapsedTime: 58.0 seconds RetCode: 0 Status: OK PackageFile: flowGraph_1.18.0.tar.gz PackageFileSize: 1.636 MiB