Package: flowGraph Version: 1.18.0 Command: /home/biocbuild/bbs-3.22-bioc/R/bin/R CMD INSTALL flowGraph StartedAt: 2025-11-13 15:10:45 -0500 (Thu, 13 Nov 2025) EndedAt: 2025-11-13 15:11:05 -0500 (Thu, 13 Nov 2025) EllapsedTime: 19.4 seconds RetCode: 0 Status: OK