Package: flowGraph Version: 1.18.0 Command: /home/biocbuild/bbs-3.22-bioc/R/bin/R CMD build --keep-empty-dirs --no-resave-data --md5 flowGraph StartedAt: 2025-11-14 17:44:07 -0500 (Fri, 14 Nov 2025) EndedAt: 2025-11-14 17:44:47 -0500 (Fri, 14 Nov 2025) EllapsedTime: 40.1 seconds RetCode: 0 Status: OK PackageFile: flowGraph_1.18.0.tar.gz PackageFileSize: 2.162 MiB