Package: flowGraph Version: 1.16.0 Command: /home/biocbuild/bbs-3.21-bioc/R/bin/R CMD INSTALL flowGraph StartedAt: 2025-09-28 15:22:44 -0400 (Sun, 28 Sep 2025) EndedAt: 2025-09-28 15:23:14 -0400 (Sun, 28 Sep 2025) EllapsedTime: 30.7 seconds RetCode: 0 Status: OK