Package: flowGate Version: 1.10.0 Command: /home/biocbuild/bbs-3.22-bioc/R/bin/R CMD INSTALL flowGate StartedAt: 2025-11-11 15:38:04 -0500 (Tue, 11 Nov 2025) EndedAt: 2025-11-11 15:38:19 -0500 (Tue, 11 Nov 2025) EllapsedTime: 15.0 seconds RetCode: 0 Status: OK