Package: flowGate Version: 1.10.0 Command: /home/biocbuild/bbs-3.22-bioc/R/bin/R CMD build --keep-empty-dirs --no-resave-data --md5 flowGate StartedAt: 2025-11-11 17:44:44 -0500 (Tue, 11 Nov 2025) EndedAt: 2025-11-11 17:45:14 -0500 (Tue, 11 Nov 2025) EllapsedTime: 30.0 seconds RetCode: 0 Status: OK PackageFile: flowGate_1.10.0.tar.gz PackageFileSize: 2.1 MiB