Package: flowGate Version: 1.8.0 Command: /home/biocbuild/bbs-3.21-bioc/R/bin/R CMD INSTALL flowGate StartedAt: 2025-10-15 15:32:57 -0400 (Wed, 15 Oct 2025) EndedAt: 2025-10-15 15:33:11 -0400 (Wed, 15 Oct 2025) EllapsedTime: 14.1 seconds RetCode: 0 Status: OK