Package: flowGate Version: 1.8.0 Command: rm -rf flowGate.buildbin-libdir && mkdir flowGate.buildbin-libdir && /Users/biocbuild/BBS/utils/build-universal.sh flowGate_1.8.0.tar.gz /Library/Frameworks/R.framework/Resources/bin/R flowGate.buildbin-libdir StartedAt: 2025-04-21 22:35:25 -0400 (Mon, 21 Apr 2025) EndedAt: 2025-04-21 22:35:31 -0400 (Mon, 21 Apr 2025) EllapsedTime: 6.2 seconds RetCode: 0 Status: OK PackageFile: flowGate_1.8.0.tgz PackageFileSize: 1.681 MiB