Package: flowGate Version: 1.8.0 Command: /Library/Frameworks/R.framework/Resources/bin/R CMD INSTALL flowGate StartedAt: 2025-10-13 15:56:53 -0400 (Mon, 13 Oct 2025) EndedAt: 2025-10-13 15:57:10 -0400 (Mon, 13 Oct 2025) EllapsedTime: 17.0 seconds RetCode: 0 Status: OK