Package: flowGate Version: 1.8.0 Command: rm -rf flowGate.buildbin-libdir && mkdir flowGate.buildbin-libdir && /Users/biocbuild/BBS/utils/build-universal.sh flowGate_1.8.0.tar.gz /Library/Frameworks/R.framework/Resources/bin/R flowGate.buildbin-libdir StartedAt: 2025-10-15 18:31:36 -0400 (Wed, 15 Oct 2025) EndedAt: 2025-10-15 18:31:56 -0400 (Wed, 15 Oct 2025) EllapsedTime: 20.3 seconds RetCode: 0 Status: OK PackageFile: flowGate_1.8.0.tgz PackageFileSize: 1.822 MiB