Package: flowFP Version: 1.68.0 Command: /home/biocbuild/bbs-3.22-bioc/R/bin/R CMD check --install=check:flowFP.install-out.txt --library=/home/biocbuild/bbs-3.22-bioc/R/site-library --timings flowFP_1.68.0.tar.gz StartedAt: 2025-11-13 23:48:52 -0500 (Thu, 13 Nov 2025) EndedAt: 2025-11-13 23:50:22 -0500 (Thu, 13 Nov 2025) EllapsedTime: 89.2 seconds RetCode: 0 Status: OK CheckDir: flowFP.Rcheck Warnings: 0