Package: flowFP Version: 1.66.0 Command: /home/biocbuild/bbs-3.21-bioc/R/bin/R CMD build --keep-empty-dirs --no-resave-data flowFP StartedAt: 2025-10-15 17:32:30 -0400 (Wed, 15 Oct 2025) EndedAt: 2025-10-15 17:32:54 -0400 (Wed, 15 Oct 2025) EllapsedTime: 24.0 seconds RetCode: 0 Status: OK PackageFile: flowFP_1.66.0.tar.gz PackageFileSize: 5.131 MiB