Package: flowFP Version: 1.68.0 Command: rm -rf flowFP.buildbin-libdir && mkdir flowFP.buildbin-libdir && /Users/biocbuild/BBS/utils/build-universal.sh flowFP_1.68.0.tar.gz /Library/Frameworks/R.framework/Resources/bin/R flowFP.buildbin-libdir StartedAt: 2025-11-01 01:34:35 -0400 (Sat, 01 Nov 2025) EndedAt: 2025-11-01 01:35:05 -0400 (Sat, 01 Nov 2025) EllapsedTime: 30.1 seconds RetCode: 0 Status: OK PackageFile: flowFP_1.68.0.tgz PackageFileSize: 5.533 MiB