Package: flowFP Version: 1.66.0 Command: /home/biocbuild/R/R/bin/R CMD INSTALL flowFP StartedAt: 2025-10-06 20:25:47 -0000 (Mon, 06 Oct 2025) EndedAt: 2025-10-06 20:26:07 -0000 (Mon, 06 Oct 2025) EllapsedTime: 19.5 seconds RetCode: 0 Status: OK