Package: flowFP Version: 1.66.0 Command: /home/biocbuild/R/R/bin/R CMD build --keep-empty-dirs --no-resave-data flowFP StartedAt: 2025-10-07 00:57:40 -0000 (Tue, 07 Oct 2025) EndedAt: 2025-10-07 00:58:12 -0000 (Tue, 07 Oct 2025) EllapsedTime: 32.0 seconds RetCode: 0 Status: OK PackageFile: flowFP_1.66.0.tar.gz PackageFileSize: 5.124 MiB