Package: flowFP Version: 1.66.0 Command: /Library/Frameworks/R.framework/Resources/bin/R CMD INSTALL flowFP StartedAt: 2025-04-21 15:07:17 -0400 (Mon, 21 Apr 2025) EndedAt: 2025-04-21 15:07:23 -0400 (Mon, 21 Apr 2025) EllapsedTime: 6.2 seconds RetCode: 0 Status: OK