Package: flowFP Version: 1.66.0 Command: rm -rf flowFP.buildbin-libdir && mkdir flowFP.buildbin-libdir && /Users/biocbuild/BBS/utils/build-universal.sh flowFP_1.66.0.tar.gz /Library/Frameworks/R.framework/Resources/bin/R flowFP.buildbin-libdir StartedAt: 2025-04-21 22:35:24 -0400 (Mon, 21 Apr 2025) EndedAt: 2025-04-21 22:35:32 -0400 (Mon, 21 Apr 2025) EllapsedTime: 8.2 seconds RetCode: 0 Status: OK PackageFile: flowFP_1.66.0.tgz PackageFileSize: 5.535 MiB