Package: flowDensity Version: 1.44.0 Command: /home/biocbuild/bbs-3.22-bioc/R/bin/R CMD INSTALL flowDensity StartedAt: 2025-11-11 15:18:15 -0500 (Tue, 11 Nov 2025) EndedAt: 2025-11-11 15:18:27 -0500 (Tue, 11 Nov 2025) EllapsedTime: 11.9 seconds RetCode: 0 Status: OK