Package: flowDensity Version: 1.44.0 Command: /home/biocbuild/bbs-3.22-bioc/R/bin/R CMD build --keep-empty-dirs --no-resave-data --md5 flowDensity StartedAt: 2025-11-11 17:44:43 -0500 (Tue, 11 Nov 2025) EndedAt: 2025-11-11 17:44:44 -0500 (Tue, 11 Nov 2025) EllapsedTime: 1.0 seconds RetCode: 0 Status: OK PackageFile: flowDensity_1.44.0.tar.gz PackageFileSize: 4.296 MiB